BEGIN:VCALENDAR
VERSION:2.0
PRODID:-//Photonics Innovation Centre - ECPv6.15.20//NONSGML v1.0//EN
CALSCALE:GREGORIAN
METHOD:PUBLISH
X-ORIGINAL-URL:https://photonics.utoronto.ca
X-WR-CALDESC:Events for Photonics Innovation Centre
REFRESH-INTERVAL;VALUE=DURATION:PT1H
X-Robots-Tag:noindex
X-PUBLISHED-TTL:PT1H
BEGIN:VTIMEZONE
TZID:America/Toronto
BEGIN:DAYLIGHT
TZOFFSETFROM:-0500
TZOFFSETTO:-0400
TZNAME:EDT
DTSTART:20240310T070000
END:DAYLIGHT
BEGIN:STANDARD
TZOFFSETFROM:-0400
TZOFFSETTO:-0500
TZNAME:EST
DTSTART:20241103T060000
END:STANDARD
BEGIN:DAYLIGHT
TZOFFSETFROM:-0500
TZOFFSETTO:-0400
TZNAME:EDT
DTSTART:20250309T070000
END:DAYLIGHT
BEGIN:STANDARD
TZOFFSETFROM:-0400
TZOFFSETTO:-0500
TZNAME:EST
DTSTART:20251102T060000
END:STANDARD
BEGIN:DAYLIGHT
TZOFFSETFROM:-0500
TZOFFSETTO:-0400
TZNAME:EDT
DTSTART:20260308T070000
END:DAYLIGHT
BEGIN:STANDARD
TZOFFSETFROM:-0400
TZOFFSETTO:-0500
TZNAME:EST
DTSTART:20261101T060000
END:STANDARD
END:VTIMEZONE
BEGIN:VEVENT
DTSTART;TZID=America/Toronto:20250612T170000
DTEND;TZID=America/Toronto:20250612T190000
DTSTAMP:20260421T233750
CREATED:20250512T172858Z
LAST-MODIFIED:20250512T235022Z
UID:4321-1749747600-1749754800@photonics.utoronto.ca
SUMMARY:Sharper Images through Quantum Imaging (Prof. Robert Boyd)
DESCRIPTION:Title: Sharper Images through Quantum Imaging \nSpeaker: Prof. Robert Boyd\, Canada Excellence Research Chair Laureate in Quantum Nonlinear Optics and Professor of Physics\, University of Ottawa \nDate and Time: 5-7 pm\, Thursday\, June 12\, 2025\, 5-7 PM\nLocation: MP137\, 60 St George St\, Toronto\, ON M5S 1A7 \n\n\nAbstract: Quantum imaging is a research area that seeks to produce “better” images using quantum methods. The image can be better in one of several different ways. It might possess better spatial resolution\, it might display a better signal-to-noise ratio\, or it might be able to be formed using a very small number of photons. From an operational standpoint\, we can consider quantum imaging to be an imaging modality that seeks to exploit the quantum properties of the transverse structure of light fields. In this presentation\, we describe several different recent examples of advances in the field of quantum imaging. \n\n\nOne such example is afforded by quantum phase imaging. Many biological materials\, especially cellular materials\, possess very small contrasts in terms of the amplitude of a light field transmitted through the material. However\, the transmitted field does show significant structure in terms of the phase of the transmitted light. Many of these materials are optically quite fragile and cannot withstand a high-intensity light field. High intensities are required for certain applications such as short-exposure imaging to monitor the dynamical changes in the structure of the material. The problem with optical damage is aggravated through the use of short illumination wavelengths\, which are normally required in order to obtain a good spatial resolution of the image. These difficulties can largely be mitigated through the use of quantum imaging methods. For example\, quantum imaging can make optimum use of a small number of photons in an image-bearing field. Also\, the spatial resolution can be limited not by the wavelength of light being used but by some fraction 1/N of this wavelength\, where N is the number of photons in the quantum state that interrogates the object to be imaged. In our work\, we were able to achieve a spatial resolution 1.7 times better than that of a classical imaging system with the same numerical aperture. Moreover\, the measured phase shift of the light transmitted through the sample was 2.0 times larger than that of a classical imaging system. \nOther examples of quantum imaging methods will be described in this talk. Quantum imaging has been shown to be a versatile method for enhancing the performance of optical imaging systems. One can expect additional improvements in imaging performance to be developed in the coming years. \nReference: \n1. Black\, A. N.\, L. D. Nguyen\, B. Braverman\, K. T. Crampton\, J. E. Evans\, and R. W. Boyd\, “Quantum-enhanced phase imaging without coincidence counting\,” Optica Vol.10\, 952-958\, 2023. \nBio: Canada Excellence Research Chair Laureate in Quantum Nonlinear Optics and Professor of Physics\, Robert Boyd was born in Buffalo\, New York. He received his bachelor’s degree in physics from the Massachusetts Institute of Technology and holds a PhD in physics from the University of California at Berkeley. His PhD thesis was supervised by Charles Townes and involved the use of nonlinear optical techniques in infrared detection for astronomy. In 1977\, Professor Boyd joined the faculty of the University of Rochester and\, in 2001\, became the M. Parker Givens Professor of Optics and Professor of Physics. \nIn 2010\, he became Canada Excellence Research Chair in Quantum Nonlinear Optics and Professor of Physics at the University of Ottawa. His research interests include studies of “slow” and “fast” light propagation\, quantum imaging techniques\, nonlinear optical interactions\, studies of the nonlinear optical properties of materials\, and the development of photonic devices including photonic biosensors. \nProfessor Boyd has written two books\, co-edited two anthologies\, published over 300 research papers\, and been awarded eight patents. He is the 2009 recipient of the Willis E. Lamb Award for Laser Science and Quantum Optics. He is a fellow of the American Physical Society (APS) and of the Optical Society of America (OSA). He has also served as an APS representative and chair of the Joint Council on Quantum Electronics (joint among APS\, OSA and IEEE/LEOS). Professor Boyd has served as a member of the Board of Editors of Physical Review Letters and is currently a member of the Board of Reviewing Editors of Science Magazine.
URL:https://photonics.utoronto.ca/event/sharper-images-through-quantum-imaging-prof-robert-boyd/
LOCATION:Ontario
ATTACH;FMTTYPE=image/png:https://photonics.utoronto.ca/wp-content/uploads/2025/05/RBoyd_Talk.png
END:VEVENT
END:VCALENDAR