BEGIN:VCALENDAR
VERSION:2.0
PRODID:-//Photonics Innovation Centre - ECPv6.15.20//NONSGML v1.0//EN
CALSCALE:GREGORIAN
METHOD:PUBLISH
X-ORIGINAL-URL:https://photonics.utoronto.ca
X-WR-CALDESC:Events for Photonics Innovation Centre
REFRESH-INTERVAL;VALUE=DURATION:PT1H
X-Robots-Tag:noindex
X-PUBLISHED-TTL:PT1H
BEGIN:VTIMEZONE
TZID:America/Toronto
BEGIN:DAYLIGHT
TZOFFSETFROM:-0500
TZOFFSETTO:-0400
TZNAME:EDT
DTSTART:20240310T070000
END:DAYLIGHT
BEGIN:STANDARD
TZOFFSETFROM:-0400
TZOFFSETTO:-0500
TZNAME:EST
DTSTART:20241103T060000
END:STANDARD
BEGIN:DAYLIGHT
TZOFFSETFROM:-0500
TZOFFSETTO:-0400
TZNAME:EDT
DTSTART:20250309T070000
END:DAYLIGHT
BEGIN:STANDARD
TZOFFSETFROM:-0400
TZOFFSETTO:-0500
TZNAME:EST
DTSTART:20251102T060000
END:STANDARD
BEGIN:DAYLIGHT
TZOFFSETFROM:-0500
TZOFFSETTO:-0400
TZNAME:EDT
DTSTART:20260308T070000
END:DAYLIGHT
BEGIN:STANDARD
TZOFFSETFROM:-0400
TZOFFSETTO:-0500
TZNAME:EST
DTSTART:20261101T060000
END:STANDARD
END:VTIMEZONE
BEGIN:VEVENT
DTSTART;VALUE=DATE:20250808
DTEND;VALUE=DATE:20250811
DTSTAMP:20260421T183609
CREATED:20250409T195649Z
LAST-MODIFIED:20250411T200827Z
UID:4256-1754611200-1754870399@photonics.utoronto.ca
SUMMARY:Optics Summer School Program (2025)
DESCRIPTION:Making optics seem like ‘light’ work!\nUofT’s Optica/SPIE Student Chapter proudly presents the Optics Summer School Program (OSSP)\, an opportunity for early undergraduate students to get an insider look into the exciting optics research done at UofT!
URL:https://photonics.utoronto.ca/event/optics-summer-school-program-2025/
LOCATION:Ontario
ATTACH;FMTTYPE=application/pdf:https://photonics.utoronto.ca/wp-content/uploads/2025/04/2025-ossp_slides.pdf
END:VEVENT
END:VCALENDAR