BEGIN:VCALENDAR
VERSION:2.0
PRODID:-//Photonics Innovation Centre - ECPv6.15.20//NONSGML v1.0//EN
CALSCALE:GREGORIAN
METHOD:PUBLISH
X-ORIGINAL-URL:https://photonics.utoronto.ca
X-WR-CALDESC:Events for Photonics Innovation Centre
REFRESH-INTERVAL;VALUE=DURATION:PT1H
X-Robots-Tag:noindex
X-PUBLISHED-TTL:PT1H
BEGIN:VTIMEZONE
TZID:America/Toronto
BEGIN:DAYLIGHT
TZOFFSETFROM:-0500
TZOFFSETTO:-0400
TZNAME:EDT
DTSTART:20170312T070000
END:DAYLIGHT
BEGIN:STANDARD
TZOFFSETFROM:-0400
TZOFFSETTO:-0500
TZNAME:EST
DTSTART:20171105T060000
END:STANDARD
BEGIN:DAYLIGHT
TZOFFSETFROM:-0500
TZOFFSETTO:-0400
TZNAME:EDT
DTSTART:20180311T070000
END:DAYLIGHT
BEGIN:STANDARD
TZOFFSETFROM:-0400
TZOFFSETTO:-0500
TZNAME:EST
DTSTART:20181104T060000
END:STANDARD
BEGIN:DAYLIGHT
TZOFFSETFROM:-0500
TZOFFSETTO:-0400
TZNAME:EDT
DTSTART:20190310T070000
END:DAYLIGHT
BEGIN:STANDARD
TZOFFSETFROM:-0400
TZOFFSETTO:-0500
TZNAME:EST
DTSTART:20191103T060000
END:STANDARD
BEGIN:DAYLIGHT
TZOFFSETFROM:-0500
TZOFFSETTO:-0400
TZNAME:EDT
DTSTART:20200308T070000
END:DAYLIGHT
BEGIN:STANDARD
TZOFFSETFROM:-0400
TZOFFSETTO:-0500
TZNAME:EST
DTSTART:20201101T060000
END:STANDARD
END:VTIMEZONE
BEGIN:VEVENT
DTSTART;VALUE=DATE:20190525
DTEND;VALUE=DATE:20190527
DTSTAMP:20260422T210106
CREATED:20240124T002348Z
LAST-MODIFIED:20240124T002348Z
UID:3236-1558742400-1558915199@photonics.utoronto.ca
SUMMARY:Doors Open Toronto
DESCRIPTION:https://www.toronto.ca/news/the-20th-annual-doors-open-toronto-2019-lineup-announced/
URL:https://photonics.utoronto.ca/event/doors-open-toronto/
END:VEVENT
BEGIN:VEVENT
DTSTART;VALUE=DATE:20190513
DTEND;VALUE=DATE:20190518
DTSTAMP:20260422T210107
CREATED:20240125T225327Z
LAST-MODIFIED:20240125T225350Z
UID:3266-1557705600-1558137599@photonics.utoronto.ca
SUMMARY:OptoFest 2019
DESCRIPTION:OptoFest 2019
URL:https://photonics.utoronto.ca/event/optofest-2019/
END:VEVENT
BEGIN:VEVENT
DTSTART;VALUE=DATE:20190511
DTEND;VALUE=DATE:20190512
DTSTAMP:20260422T210107
CREATED:20240124T002516Z
LAST-MODIFIED:20240124T002530Z
UID:3238-1557532800-1557619199@photonics.utoronto.ca
SUMMARY:Science Rendezvous
DESCRIPTION:https://www.sciencerendezvousuoft.ca/2019-festival/exhibitions/
URL:https://photonics.utoronto.ca/event/science-rendezvous/
END:VEVENT
BEGIN:VEVENT
DTSTART;VALUE=DATE:20180809
DTEND;VALUE=DATE:20180811
DTSTAMP:20260422T210108
CREATED:20240124T002656Z
LAST-MODIFIED:20240124T002858Z
UID:3240-1533772800-1533945599@photonics.utoronto.ca
SUMMARY:First Annual SPIE U of T Student Conference
DESCRIPTION:Our first annual conference featured three invited speakers from both industry and academia\, as well as a number of excellent oral and poster presentations by U of T students!
URL:https://photonics.utoronto.ca/event/first-annual-spie-u-of-t-student-conference/
ATTACH;FMTTYPE=image/jpeg:https://photonics.utoronto.ca/wp-content/uploads/2024/01/DSC_09262-scaled-e1706056087716.jpg
END:VEVENT
BEGIN:VEVENT
DTSTART;VALUE=DATE:20180709
DTEND;VALUE=DATE:20180804
DTSTAMP:20260422T210108
CREATED:20240124T003045Z
LAST-MODIFIED:20240124T003045Z
UID:3244-1531094400-1533340799@photonics.utoronto.ca
SUMMARY:DEEP Camp After Class Experience
DESCRIPTION:
URL:https://photonics.utoronto.ca/event/deep-camp-after-class-experience/
END:VEVENT
END:VCALENDAR